BEGIN:VCALENDAR
VERSION:2.0
PRODID:-//ChamberMaster//Event Calendar 2.0//EN
METHOD:PUBLISH
X-PUBLISHED-TTL:P3D
REFRESH-INTERVAL:P3D
CALSCALE:GREGORIAN
BEGIN:VEVENT
DTSTART:20250116T163000Z
DTEND:20250116T180000Z
X-MICROSOFT-CDO-ALLDAYEVENT:FALSE
SUMMARY:Chamber Partner Luncheon
DESCRIPTION:Join us for our first Partner Luncheon of 2025!\n\n\n\nWe will be hearing from Holly Hayes of ISI Consulting\, with an amazing lunch provided by Mission BBQ!\n\nRegister for this event by going to ChapinChamber.com
X-ALT-DESC;FMTTYPE=text/html:<p><em><span style="font-size:18px\;"><strong>Join us for our first Partner Luncheon of 2025!</strong></span></em><br />\n<br />\nWe will be hearing from Holly Hayes of ISI Consulting\, with an amazing lunch provided by Mission BBQ!</p>\n\n<p>Register for this event by going to <strong><a href="http://chapinchamber.com">ChapinChamber.com</a></strong></p>\n
LOCATION:Our Lady of The Lake Catholic Church 195 Amicks Ferry Rd Chapin\, SC 29036
UID:e.1644.5943
SEQUENCE:3
DTSTAMP:20260425T003959Z
URL:http://dev.chapinchamber.com/events/details/chamber-partner-luncheon-5943
END:VEVENT

END:VCALENDAR
