BEGIN:VCALENDAR
VERSION:2.0
PRODID:-//ChamberMaster//Event Calendar 2.0//EN
METHOD:PUBLISH
X-PUBLISHED-TTL:P3D
REFRESH-INTERVAL:P3D
CALSCALE:GREGORIAN
BEGIN:VEVENT
DTSTART:20241121T163000Z
DTEND:20241121T180000Z
X-MICROSOFT-CDO-ALLDAYEVENT:FALSE
SUMMARY:Chamber Partner Luncheon
DESCRIPTION:Join us for this #GreaterChamber Partner Networking & Education Opportunity!\n\n \n\n \n\nPARTNER LUNCHEON\n\nSpeed Networking\n\n \n\n \n\n November 21\, 2024\n\n11:30-1pm\n\nOur Lady of the Lake Catholic Church\n\n195 Amicks Ferry Rd\n\nChapin\, SC 29036\n\n \n\nJoin us for our November Partner Luncheon on November 21\, where we'll be spicing things up and hosting an engaging session of speed networking. It's the perfect chance to meet fellow partners\, exchange insights\, and foster new connections in a dynamic and fast-paced environment. Come prepared to mingle\, share ideas\, and discover exciting collaboration opportunities.\n\n \n\nPlease bring 40 business cards with you to share!
X-ALT-DESC;FMTTYPE=text/html:<p align="center" style="margin: 0px\; padding: 0px\; color: rgb(64\, 63\, 66)\; font-family: Arial\, Verdana\, Helvetica\, sans-serif\; font-size: 14px\; background-color: rgb(255\, 255\, 255)\; text-align: center\;">&nbsp\;</p>\n\n<p align="center" style="margin: 0px\; padding: 0px\; color: rgb(64\, 63\, 66)\; font-family: Arial\, Verdana\, Helvetica\, sans-serif\; font-size: 14px\; background-color: rgb(255\, 255\, 255)\; text-align: center\;">&nbsp\;</p>\n\n<p align="center" style="margin: 0px\; padding: 0px\; color: rgb(64\, 63\, 66)\; font-family: Arial\, Verdana\, Helvetica\, sans-serif\; font-size: 14px\; background-color: rgb(255\, 255\, 255)\; text-align: center\;">&nbsp\;</p>\n\n<p align="center" style="margin: 0px\; padding: 0px\; color: rgb(64\, 63\, 66)\; font-family: Arial\, Verdana\, Helvetica\, sans-serif\; font-size: 14px\; background-color: rgb(255\, 255\, 255)\; text-align: center\;"><span style="font-size: 22px\; color: rgb(40\, 79\, 161)\; font-family: Georgia\, &quot\;Times New Roman&quot\;\, Times\, serif\; font-weight: bold\;">Join us for this #GreaterChamber Partner Networking &amp\; Education Opportunity!</span></p>\n\n<p align="center" style="margin: 0px\; padding: 0px\; color: rgb(64\, 63\, 66)\; font-family: Arial\, Verdana\, Helvetica\, sans-serif\; font-size: 14px\; background-color: rgb(255\, 255\, 255)\; text-align: center\;">&nbsp\;</p>\n\n<p align="center" style="margin: 0px\; padding: 0px\; color: rgb(64\, 63\, 66)\; font-family: Arial\, Verdana\, Helvetica\, sans-serif\; font-size: 14px\; background-color: rgb(255\, 255\, 255)\; text-align: center\;">&nbsp\;</p>\n\n<p align="center" style="margin: 0px\; padding: 0px\; color: rgb(64\, 63\, 66)\; font-family: Arial\, Verdana\, Helvetica\, sans-serif\; font-size: 14px\; background-color: rgb(255\, 255\, 255)\; text-align: center\;"><span style="font-size: 25px\; color: rgb(40\, 79\, 161)\; font-family: Georgia\, &quot\;Times New Roman&quot\;\, Times\, serif\; font-weight: bold\;">PARTNER LUNCHEON</span></p>\n\n<p align="center" style="margin: 0px\; padding: 0px\; color: rgb(64\, 63\, 66)\; font-family: Arial\, Verdana\, Helvetica\, sans-serif\; font-size: 14px\; background-color: rgb(255\, 255\, 255)\; text-align: center\;"><span style="font-size: 20px\; color: rgb(40\, 79\, 161)\; font-family: Georgia\, &quot\;Times New Roman&quot\;\, Times\, serif\; font-weight: bold\;">Speed Networking</span></p>\n\n<p align="center" style="margin: 0px\; padding: 0px\; color: rgb(64\, 63\, 66)\; font-family: Arial\, Verdana\, Helvetica\, sans-serif\; font-size: 14px\; background-color: rgb(255\, 255\, 255)\; text-align: center\;">&nbsp\;</p>\n\n<p align="center" style="margin: 0px\; padding: 0px\; color: rgb(64\, 63\, 66)\; font-family: Arial\, Verdana\, Helvetica\, sans-serif\; font-size: 14px\; background-color: rgb(255\, 255\, 255)\; text-align: center\;">&nbsp\;</p>\n\n<p align="center" style="margin: 0px\; padding: 0px\; color: rgb(64\, 63\, 66)\; font-family: Arial\, Verdana\, Helvetica\, sans-serif\; font-size: 14px\; background-color: rgb(255\, 255\, 255)\; text-align: center\;"><span style="font-size: 19px\; color: rgb(40\, 79\, 161)\; font-family: Georgia\, &quot\;Times New Roman&quot\;\, Times\, serif\; font-weight: bold\;">&#65279\;November 21\, 2024</span></p>\n\n<p align="center" style="margin: 0px\; padding: 0px\; color: rgb(64\, 63\, 66)\; font-family: Arial\, Verdana\, Helvetica\, sans-serif\; font-size: 14px\; background-color: rgb(255\, 255\, 255)\; text-align: center\;"><span style="font-size: 19px\; color: rgb(40\, 79\, 161)\; font-family: Georgia\, &quot\;Times New Roman&quot\;\, Times\, serif\; font-weight: bold\;">11:30-1pm</span></p>\n\n<p align="center" style="margin: 0px\; padding: 0px\; color: rgb(64\, 63\, 66)\; font-family: Arial\, Verdana\, Helvetica\, sans-serif\; font-size: 14px\; background-color: rgb(255\, 255\, 255)\; text-align: center\;"><span style="color: rgb(40\, 79\, 161)\; font-weight: bold\; font-family: Georgia\, &quot\;Times New Roman&quot\;\, Times\, serif\;">Our Lady of the Lake Catholic Church</span></p>\n\n<p align="center" style="margin: 0px\; padding: 0px\; color: rgb(64\, 63\, 66)\; font-family: Arial\, Verdana\, Helvetica\, sans-serif\; font-size: 14px\; background-color: rgb(255\, 255\, 255)\; text-align: center\;"><span style="color: rgb(40\, 79\, 161)\; font-weight: bold\; font-family: Georgia\, &quot\;Times New Roman&quot\;\, Times\, serif\;">195 Amicks Ferry Rd</span></p>\n\n<p align="center" style="margin: 0px\; padding: 0px\; color: rgb(64\, 63\, 66)\; font-family: Arial\, Verdana\, Helvetica\, sans-serif\; font-size: 14px\; background-color: rgb(255\, 255\, 255)\; text-align: center\;"><span style="color: rgb(40\, 79\, 161)\; font-weight: bold\; font-family: Georgia\, &quot\;Times New Roman&quot\;\, Times\, serif\;">Chapin\, SC 29036</span></p>\n\n<p align="center" style="margin: 0px\; padding: 0px\; color: rgb(64\, 63\, 66)\; font-family: Arial\, Verdana\, Helvetica\, sans-serif\; font-size: 14px\; background-color: rgb(255\, 255\, 255)\; text-align: center\;">&nbsp\;</p>\n\n<p align="center" style="margin: 0px\; padding: 0px\; color: rgb(64\, 63\, 66)\; font-family: Arial\, Verdana\, Helvetica\, sans-serif\; font-size: 14px\; background-color: rgb(255\, 255\, 255)\; text-align: center\;"><span style="color: rgb(40\, 79\, 161)\; font-family: Georgia\, &quot\;Times New Roman&quot\;\, Times\, serif\; font-weight: bold\;">Join us for our November Partner Luncheon on November 21\, where we&#39\;ll be spicing things up and hosting an engaging session of speed networking. It&#39\;s the perfect chance to meet fellow partners\, exchange insights\, and foster new connections in a dynamic and fast-paced environment. Come prepared to mingle\, share ideas\, and discover exciting collaboration opportunities.</span></p>\n\n<p align="center" style="margin: 0px\; padding: 0px\; color: rgb(64\, 63\, 66)\; font-family: Arial\, Verdana\, Helvetica\, sans-serif\; font-size: 14px\; background-color: rgb(255\, 255\, 255)\; text-align: center\;">&nbsp\;</p>\n\n<p align="center" style="margin: 0px\; padding: 0px\; color: rgb(64\, 63\, 66)\; font-family: Arial\, Verdana\, Helvetica\, sans-serif\; font-size: 14px\; background-color: rgb(255\, 255\, 255)\; text-align: center\;"><span style="color: rgb(192\, 62\, 48)\; font-family: Georgia\, &quot\;Times New Roman&quot\;\, Times\, serif\; font-weight: bold\;">Please bring 40 business cards with you to share!</span></p>\n
LOCATION:Our Lady of the Lake Catholic Church 195 Amicks Ferry Rd. Chapin\, SC 29036
UID:e.1644.5608
SEQUENCE:3
DTSTAMP:20260425T040028Z
URL:http://dev.chapinchamber.com/events/details/chamber-partner-luncheon-11-21-2024-5608
END:VEVENT

END:VCALENDAR
