BEGIN:VCALENDAR
VERSION:2.0
PRODID:-//ChamberMaster//Event Calendar 2.0//EN
METHOD:PUBLISH
X-PUBLISHED-TTL:P3D
REFRESH-INTERVAL:P3D
CALSCALE:GREGORIAN
BEGIN:VEVENT
DTSTART:20241114T213000Z
DTEND:20241114T233000Z
X-MICROSOFT-CDO-ALLDAYEVENT:FALSE
SUMMARY:Business After Hours: Timberlake Country Club
DESCRIPTION:Come and enjoy a time of networking with your fellow Greater Chapin Chamber Partners for happy hour!  Select your favorite beverage and grow your business networking.\n\n\n\nRSVP Here:  https://lp.constantcontactpages.com/ev/reg/2d9aqj7/lp/0d019178-ad3a-492e-a7d4-a1c147fc264a
X-ALT-DESC;FMTTYPE=text/html:<br />\n<br />\nCome and enjoy a time of networking with your fellow Greater Chapin Chamber Partners for happy hour!&nbsp\; Select your favorite beverage and grow your business networking.<br />\n<br />\nRSVP Here:&nbsp\;&nbsp\;https://lp.constantcontactpages.com/ev/reg/2d9aqj7/lp/0d019178-ad3a-492e-a7d4-a1c147fc264a
LOCATION:Timberlake Country Club 222 Timberlake Dr. Chapin\, SC 29036
UID:e.1644.5923
SEQUENCE:3
DTSTAMP:20260425T040146Z
URL:http://dev.chapinchamber.com/events/details/business-after-hours-timberlake-country-club-5923
END:VEVENT

END:VCALENDAR
