BEGIN:VCALENDAR
VERSION:2.0
PRODID:-//ChamberMaster//Event Calendar 2.0//EN
METHOD:PUBLISH
X-PUBLISHED-TTL:P3D
REFRESH-INTERVAL:P3D
CALSCALE:GREGORIAN
BEGIN:VEVENT
DTSTART:20260212T220000Z
DTEND:20260212T220000Z
X-MICROSOFT-CDO-ALLDAYEVENT:FALSE
SUMMARY:Business After Hours: Happy Hour
DESCRIPTION:Join us for a time of great fun\, great drinks\, and even greater connections.
X-ALT-DESC;FMTTYPE=text/html:Join us for a time of great fun\, great drinks\, and even greater connections.
LOCATION:
UID:e.1644.6212
SEQUENCE:3
DTSTAMP:20260424T033550Z
URL:http://dev.chapinchamber.com/events/details/business-after-hours-happy-hour-6212
END:VEVENT

END:VCALENDAR
