BEGIN:VCALENDAR
VERSION:2.0
PRODID:-//ChamberMaster//Event Calendar 2.0//EN
METHOD:PUBLISH
X-PUBLISHED-TTL:P3D
REFRESH-INTERVAL:P3D
CALSCALE:GREGORIAN
BEGIN:VEVENT
DTSTART:20241212T213000Z
DTEND:20241212T230000Z
X-MICROSOFT-CDO-ALLDAYEVENT:FALSE
SUMMARY:Business After Hours: Happy Hour
DESCRIPTION:Join us at the Tipsy Toad Tavern on 12/12/24 from 430-6PM
X-ALT-DESC;FMTTYPE=text/html:Join us at the Tipsy Toad Tavern on 12/12/24 from 430-6PM
LOCATION:
UID:e.1644.5937
SEQUENCE:3
DTSTAMP:20260425T022520Z
URL:http://dev.chapinchamber.com/events/details/business-after-hours-happy-hour-5937
END:VEVENT

END:VCALENDAR
