BEGIN:VCALENDAR
VERSION:2.0
PRODID:-//ChamberMaster//Event Calendar 2.0//EN
METHOD:PUBLISH
X-PUBLISHED-TTL:P3D
REFRESH-INTERVAL:P3D
CALSCALE:GREGORIAN
BEGIN:VEVENT
DTSTART:20240509T203000Z
DTEND:20240509T223000Z
X-MICROSOFT-CDO-ALLDAYEVENT:FALSE
SUMMARY:Business After Hours: Happy Hour
DESCRIPTION:Join us for Happy Hour on May 9\, 2024!  Relax and unwind with great drinks and event better company at the Chophouse of Chapin!  See you there!
X-ALT-DESC;FMTTYPE=text/html:Join us for Happy Hour on May 9\, 2024!&nbsp\; Relax and unwind with great drinks and event better company at the Chophouse of Chapin!&nbsp\; See you there!&nbsp\; &nbsp\; &nbsp\; &nbsp\;
LOCATION:Chophouse of Chapin
UID:e.1644.5607
SEQUENCE:3
DTSTAMP:20260425T140724Z
URL:http://dev.chapinchamber.com/events/details/business-after-hours-happy-hour-5607
END:VEVENT

END:VCALENDAR
