BEGIN:VCALENDAR
VERSION:2.0
PRODID:-//ChamberMaster//Event Calendar 2.0//EN
METHOD:PUBLISH
X-PUBLISHED-TTL:P3D
REFRESH-INTERVAL:P3D
CALSCALE:GREGORIAN
BEGIN:VEVENT
DTSTART:20240410T203000Z
DTEND:20240410T223000Z
X-MICROSOFT-CDO-ALLDAYEVENT:FALSE
SUMMARY:Business After Hours: Happy Hour
DESCRIPTION:Join us for an evening of networking and collaboration at Lazy Creek Taphouse!  The Happy Hour on 4/11 is your chance to connect with fellow professionals in a laid back setting.  Don't miss out on drinks and great conversations!  See you there!
X-ALT-DESC;FMTTYPE=text/html:<span style="font-size:14px\;"><span style="font-family:times new roman\;">Join us for an evening of networking and collaboration at Lazy Creek Taphouse!&nbsp\; The Happy Hour on 4/11 is your chance to connect with fellow professionals in a laid back setting.&nbsp\; Don&#39\;t miss out on drinks and great conversations!&nbsp\; See you there!&nbsp\;</span></span>
LOCATION:Lazy Creek Taphouse
UID:e.1644.5600
SEQUENCE:3
DTSTAMP:20260425T160851Z
URL:http://dev.chapinchamber.com/events/details/business-after-hours-happy-hour-5600
END:VEVENT

END:VCALENDAR
