BEGIN:VCALENDAR
VERSION:2.0
PRODID:-//ChamberMaster//Event Calendar 2.0//EN
METHOD:PUBLISH
X-PUBLISHED-TTL:P3D
REFRESH-INTERVAL:P3D
CALSCALE:GREGORIAN
BEGIN:VEVENT
DTSTART:20240405T210000Z
DTEND:20240406T000000Z
X-MICROSOFT-CDO-ALLDAYEVENT:FALSE
SUMMARY:Brew 2 Build
DESCRIPTION:Brew 2 Build Festival will take place at Segra Park\, home of the Columbia Fireflies on April 5th from 5-8 p.m. Central S.C. Habitat for Humanity has partnered with BMW of Columbia as a presenting sponsor to host a night that will feature over 100 unlimited brews to sample from across the nation\, including alcohol-free selections and specialty waters. The festival will have vehicles on display from BMW of Columbia\, music with DJ Tbone\, games\, and a raffle with incredible prizes. Food concessions will be available for purchase. All proceeds of Brew 2 Build directly support Central South Carolina Habitat for Humanity's efforts to build affordable homes and continue revitalizing neighborhoods throughout the Midlands.
X-ALT-DESC;FMTTYPE=text/html:Brew 2 Build Festival will take place at Segra Park\, home of the Columbia Fireflies on April 5th from 5-8 p.m. Central S.C. Habitat for Humanity has partnered with BMW of Columbia as a presenting sponsor to host a night that will feature over 100 unlimited brews to sample from across the nation\, including alcohol-free selections and specialty waters. The festival will have vehicles on display from BMW of Columbia\, music with DJ Tbone\, games\, and a raffle with incredible prizes. Food concessions will be available for purchase. All proceeds of Brew 2 Build directly support Central South Carolina Habitat for Humanity&rsquo\;s efforts to build affordable homes and continue revitalizing neighborhoods throughout the Midlands.
LOCATION:Segra Park 1640 Freed Street\, Columbia\, SC 29201
UID:e.1644.5593
SEQUENCE:3
DTSTAMP:20260425T155535Z
URL:http://dev.chapinchamber.com/events/details/brew-2-build-5593
END:VEVENT

END:VCALENDAR
