BEGIN:VCALENDAR
VERSION:2.0
PRODID:-//ChamberMaster//Event Calendar 2.0//EN
METHOD:PUBLISH
X-PUBLISHED-TTL:P3D
REFRESH-INTERVAL:P3D
CALSCALE:GREGORIAN
BEGIN:VEVENT
DTSTART:20250515T233000Z
DTEND:20250518T013000Z
X-MICROSOFT-CDO-ALLDAYEVENT:FALSE
SUMMARY:Barefoot in the Park
DESCRIPTION:Neil Simon's romantic comedy about newlywed life AFTER the big wedding.
X-ALT-DESC;FMTTYPE=text/html:Neil Simon&rsquo\;s romantic comedy about newlywed life AFTER the big wedding.
LOCATION:Chapin Theatre Company\, 830 Columbia Ave\, Chapin\, SC 29036
UID:e.1644.6635
SEQUENCE:3
DTSTAMP:20260424T175745Z
URL:http://dev.chapinchamber.com/events/details/barefoot-in-the-park-6635
END:VEVENT

END:VCALENDAR
