BEGIN:VCALENDAR
VERSION:2.0
PRODID:-//ChamberMaster//Event Calendar 2.0//EN
METHOD:PUBLISH
X-PUBLISHED-TTL:P3D
REFRESH-INTERVAL:P3D
CALSCALE:GREGORIAN
BEGIN:VEVENT
DTSTART:20240815T153000Z
DTEND:20240815T170000Z
X-MICROSOFT-CDO-ALLDAYEVENT:FALSE
SUMMARY:August Partner Luncheon
DESCRIPTION:Join us on August 15\, 2024 for our monthly Partner Luncheon.  This month we will welcome Superintendent Ellen Weaver\, Department of Education to speak.  \n\n\n\nOur lunch sponsor this month is Your Health! \n\n\n\n\n\n\n\n\n\nSuperintendent Ellen Weaver's Bio: \n\nEllen Weaver was elected as South Carolina's 19th State Superintendent of Education on November 9th\, 2022. Born in Greenville\, Ellen has spent her career as a passionate advocate for educational excellence and opportunity for every student in her beloved home state because she knows firsthand that a great education is the front door to the American Dream.\n\n\n\nEllen graduated from a great public school and earned her B.A. in Political Science\, as well as a Master's in Educational Leadership\, from Bob Jones University. After graduation\, she worked in Senator Jim DeMint's office for 12 years in a variety of roles\, finishing her time as his State Director. She founded Palmetto Promise Institute\, a leading state public policy organization\, in 2013. As President of Palmetto Promise\, she worked tirelessly to improve the lives of her fellow South Carolinians\, with a specialized focus on education policy.\n\n\n\nBetween her research at Palmetto Promise and her work as a member and chair of the SC Education Oversight Committee\, Ellen's deep experience in education policy in South Carolina gave her a relentless passion for ensuring every child the hope and freedom found in an excellent education.\n\n\n\nEllen is focused on prioritizing the instruction of foundational skills\, recruiting and retaining the best educators\, and partnering with parents   as well as business and other community leaders   to prepare students for their personal path to success.\n\n\n\n\n\n\n\n\n\nRegister online at ChapinChamber.com or copy and paste this link into a new browser: https://lp.constantcontactpages.com/ev/reg/ye5acx8/lp/e2902cc2-464a-4dee-9a32-b72f9f0d07f9
X-ALT-DESC;FMTTYPE=text/html:<br />\n<br />\n<span style="color:#000080\;"><span style="font-size:18px\;"><span style="font-family:times new roman\;">Join us on August 15\, 2024 for our monthly Partner Luncheon.&nbsp\; This month we will welcome Superintendent Ellen Weaver\, Department of Education to speak.&nbsp\;&nbsp\;<br />\n<br />\nOur lunch sponsor this month is Your Health!&nbsp\;</span><br />\n<br />\n<br />\n<br />\n<br />\n<span style="font-family:times new roman\;">Superintendent Ellen Weaver&#39\;s Bio:&nbsp\;<br />\nEllen Weaver was elected as South Carolina&#39\;s 19th State Superintendent of Education on November 9th\, 2022. Born in Greenville\, Ellen has spent her career as a passionate advocate for educational excellence and opportunity for every student in her beloved home state because she knows firsthand that a great education is the front door to the American Dream.<br />\n<br />\nEllen graduated from a great public school and earned her B.A. in Political Science\, as well as a Master&#39\;s in Educational Leadership\, from Bob Jones University. After graduation\, she worked in Senator Jim DeMint&#39\;s office for 12 years in a variety of roles\, finishing her time as his State Director. She founded Palmetto Promise Institute\, a leading state public policy organization\, in 2013. As President of Palmetto Promise\, she worked tirelessly to improve the lives of her fellow South Carolinians\, with a specialized focus on education policy.<br />\n<br />\nBetween her research at Palmetto Promise and her work as a member and chair of the SC Education Oversight Committee\, Ellen&#39\;s deep experience in education policy in South Carolina gave her a relentless passion for ensuring every child the hope and freedom found in an excellent education.<br />\n<br />\nEllen is focused on prioritizing the instruction of foundational skills\, recruiting and retaining the best educators\, and partnering with parents &mdash\; as well as business and other community leaders &mdash\; to prepare students for their personal path to success.<br />\n<br />\n<br />\n<br />\n<br />\nRegister online at ChapinChamber.com or copy and paste this link into a new browser:&nbsp\;https://lp.constantcontactpages.com/ev/reg/ye5acx8/lp/e2902cc2-464a-4dee-9a32-b72f9f0d07f9</span></span></span>
LOCATION:Our Lady of the Lake Catholic Church
UID:e.1644.5767
SEQUENCE:3
DTSTAMP:20260425T103048Z
URL:http://dev.chapinchamber.com/events/details/august-partner-luncheon-5767
END:VEVENT

END:VCALENDAR
