BEGIN:VCALENDAR
VERSION:2.0
PRODID:-//ChamberMaster//Event Calendar 2.0//EN
METHOD:PUBLISH
X-PUBLISHED-TTL:P3D
REFRESH-INTERVAL:P3D
CALSCALE:GREGORIAN
BEGIN:VEVENT
DTSTART:20250821T153000Z
DTEND:20250821T173000Z
X-MICROSOFT-CDO-ALLDAYEVENT:FALSE
SUMMARY:August Partner Luncheon
DESCRIPTION:Join us for our Monthly Partner Luncheon!\n\nCome network with other local business leaders\, learn\, and enjoy a delicious lunch!\n\n\n\nThis month\, we will be hearing from the Assistant Director of the Center and #GreaterChamber Board Member\, Roy Frick! Lunch will be provided by Chophouse of Chapin!
X-ALT-DESC;FMTTYPE=text/html:<span style="color: rgb(118\, 118\, 118)\; font-family: &quot\;Open Sans&quot\;\, sans-serif\; font-size: 15px\;">Join us for our Monthly Partner Luncheon!</span><br style="color: rgb(118\, 118\, 118)\; font-family: &quot\;Open Sans&quot\;\, sans-serif\; font-size: 15px\;" />\n<span style="color: rgb(118\, 118\, 118)\; font-family: &quot\;Open Sans&quot\;\, sans-serif\; font-size: 15px\;">Come network with other local business leaders\, learn\, and enjoy a delicious lunch!</span><br style="color: rgb(118\, 118\, 118)\; font-family: &quot\;Open Sans&quot\;\, sans-serif\; font-size: 15px\;" />\n<br style="color: rgb(118\, 118\, 118)\; font-family: &quot\;Open Sans&quot\;\, sans-serif\; font-size: 15px\;" />\n<span style="color: rgb(118\, 118\, 118)\; font-family: &quot\;Open Sans&quot\;\, sans-serif\; font-size: 15px\;">This month\, we will be hearing from the Assistant Director of the Center and #GreaterChamber Board Member\, Roy Frick! Lunch will be provided by Chophouse of Chapin!</span>
LOCATION:The Center for Advanced Technical Studies 916 Mt Vernon Church Rd\, Chapin\, SC 29036
UID:e.1644.6493
SEQUENCE:3
DTSTAMP:20260424T125438Z
URL:http://dev.chapinchamber.com/events/details/august-partner-luncheon-08-21-2025-6493
END:VEVENT

END:VCALENDAR
