BEGIN:VCALENDAR
VERSION:2.0
PRODID:-//ChamberMaster//Event Calendar 2.0//EN
METHOD:PUBLISH
X-PUBLISHED-TTL:P3D
REFRESH-INTERVAL:P3D
CALSCALE:GREGORIAN
BEGIN:VEVENT
DTSTART:20240418T153000Z
DTEND:20240418T170000Z
X-MICROSOFT-CDO-ALLDAYEVENT:FALSE
SUMMARY:April 2024 Partner Luncheon
DESCRIPTION:Mid-Carolina Electric Cooperative President and CEO\, Bob Paulling\, will speak on the critical issue of power generation and provide updates on its progress since his talk at the luncheon last year. Drawing from his advocacy experiences on Capitol Hill\, Bob will shed light on legislative and agency developments\, including EPA actions and a significant bill concerning Santee Cooper and Dominion Energy currently advancing through the S.C. State House. Additionally\, he will emphasize the cooperative principles and collaborative initiatives of organizations like SC Power Team\, CEEUS\, Carolina Connect\, and Central Electric Power Cooperative\, highlighting their concerted efforts to empower cooperatives across South Carolina.
X-ALT-DESC;FMTTYPE=text/html:<span style="color: rgb(34\, 34\, 34)\; font-family: Aptos\, serif\; font-size: 14.6667px\; background-color: rgb(255\, 255\, 255)\;">Mid-Carolina Electric Cooperative President and CEO\, Bob Paulling\, will speak on the critical issue of power generation and provide updates on its progress since his talk at the luncheon last year. Drawing from his advocacy experiences on Capitol Hill\, Bob will shed light on legislative and agency developments\, including EPA actions and a significant bill concerning Santee Cooper and Dominion Energy currently advancing through the S.C. State House. Additionally\, he will emphasize the cooperative principles and collaborative initiatives of organizations like SC Power Team\, CEEUS\, Carolina Connect\, and Central Electric Power Cooperative\, highlighting their concerted efforts to empower cooperatives across South Carolina.</span>
LOCATION:Our Lady of the Lake Catholic Church
UID:e.1644.5603
SEQUENCE:3
DTSTAMP:20260425T160851Z
URL:http://dev.chapinchamber.com/events/details/april-2024-partner-luncheon-5603
END:VEVENT

END:VCALENDAR
