BEGIN:VCALENDAR
VERSION:2.0
PRODID:-//ChamberMaster//Event Calendar 2.0//EN
METHOD:PUBLISH
X-PUBLISHED-TTL:P3D
REFRESH-INTERVAL:P3D
CALSCALE:GREGORIAN
BEGIN:VEVENT
DTSTART:20241206T003000Z
DTEND:20241216T023000Z
X-MICROSOFT-CDO-ALLDAYEVENT:FALSE
SUMMARY:A Nice Family Christmas
DESCRIPTION:All the family is coming over for Christmas including the long lost crazy uncle and leads to family secrets uncovered and all kinds of dysfunctional fun. This is a heartwarming holiday comedy that is sure to have you laughing in the aisles.
X-ALT-DESC;FMTTYPE=text/html:All the family is coming over for Christmas including the long lost crazy uncle and leads to family secrets uncovered and all kinds of dysfunctional fun. This is a heartwarming holiday comedy that is sure to have you laughing in the aisles.
LOCATION:Chapin Theatre Company\, 830 Columbia Ave\, Chapin\, SC 29036
UID:e.1644.5746
SEQUENCE:3
DTSTAMP:20260425T022538Z
URL:http://dev.chapinchamber.com/events/details/a-nice-family-christmas-5746
END:VEVENT

END:VCALENDAR
