BEGIN:VCALENDAR
VERSION:2.0
PRODID:-//ChamberMaster//Event Calendar 2.0//EN
METHOD:PUBLISH
X-PUBLISHED-TTL:P3D
REFRESH-INTERVAL:P3D
CALSCALE:GREGORIAN
BEGIN:VEVENT
DTSTART;VALUE=DATE:20260402
DTEND;VALUE=DATE:20260403
TRANSP:TRANSPARENT
X-MICROSOFT-CDO-ALLDAYEVENT:TRUE
SUMMARY:2026 Chapin Chamber Spring Golf Classic
DESCRIPTION:We're teeing up for one of our favorite traditions of the year! Join us on Thursday\, April 2nd\, 2026 at Charwood Golf Club for the Spring Golf Classic.\n\nEnjoy a wonderful day on the beautiful course while connecting with local business leaders\, colleagues\, and friends. Whether you're playing for fun\, building new relationships\, or competing for glory\, this is the perfect opportunity to enjoy the outdoors and grow your network.\n\n  Charwood Golf Club\n\n  Thursday\, April 2nd\, 2026\n\n  Shotgun Start @ 9 AM\n\n  19th Hole & Awards Ceremony @ The Chophouse of Chapin Following Conclusion of Tournament from 5-6:30 PM\n\nWe can't wait to see you on the greens!\n\n(This Event Will Take Place Rain or Shine: No Refunds Will Be Accepted For Any Reason)
X-ALT-DESC;FMTTYPE=text/html:<p data-end="371" data-start="97"><span style="font-size:16px\;">We&rsquo\;re teeing up for one of our favorite traditions of the year! Join us on <span style="color:#008000\;"><strong data-end="256" data-start="229">Thursday\, April 2nd\, 2026</strong></span> at <span style="color:#008000\;"><strong data-end="287" data-start="260">Charwood Golf Club</strong></span> for the <span style="color:#008000\;"><strong data-end="317" data-start="296">Spring Golf Classic</strong></span>.</span></p>\n\n<p data-end="665" data-start="373">Enjoy a wonderful day on the beautiful course while connecting with local business leaders\, colleagues\, and friends. Whether you&rsquo\;re playing for fun\, building new relationships\, or competing for glory\, this is the perfect opportunity to enjoy the outdoors and grow your network.</p>\n\n<p data-end="784" data-start="667"><strong>&#128205\; <strong data-end="697" data-start="670">Charwood Golf Club</strong><br data-end="700" data-start="697" />\n&#128197\; <strong data-end="734" data-start="703">Thursday\, April 2nd\, 2026</strong><br data-end="737" data-start="734" />\n&#9200\; Shotgun Start @ 9 AM<br />\n&#127864\; 19th Hole &amp\; Awards Ceremony @ The Chophouse of Chapin Following Conclusion of Tournament from 5-6:30 PM</strong></p>\n\n<p data-end="923" data-start="882">We can&rsquo\;t wait to see you on the greens!<br />\n<strong style="background-color: rgb(255\, 255\, 255)\; color: rgb(255\, 0\, 0)\; font-family: Roboto\, sans-serif\; font-size: 14px\;"><em class="description ng-scope" ng-if="fee.description" style="box-sizing: border-box\;">(This Event Will Take Place Rain or Shine: No Refunds Will Be Accepted For Any Reason)</em></strong></p>\n
LOCATION:
UID:e.1644.6679
SEQUENCE:3
DTSTAMP:20260423T215850Z
URL:http://dev.chapinchamber.com/events/details/2026-chapin-chamber-spring-golf-classic-6679
END:VEVENT

END:VCALENDAR
