BEGIN:VCALENDAR
VERSION:2.0
PRODID:-//ChamberMaster//Event Calendar 2.0//EN
METHOD:PUBLISH
X-PUBLISHED-TTL:P3D
REFRESH-INTERVAL:P3D
CALSCALE:GREGORIAN
BEGIN:VEVENT
DTSTART:20241202T020000Z
DTEND:20241201T210000Z
X-MICROSOFT-CDO-ALLDAYEVENT:FALSE
SUMMARY:2025 Spring Golf Classic presented by Victoria Ares: Allstate Agency
DESCRIPTION:Dust off your clubs and get ready for the 2024 Fall Golf Classic with the Greater Chapin Chamber of Commerce! Join us at the prestigious Mid Carolina Club on October 22\, 2024\, for a day filled with fun\, networking\, and friendly competition. Whether you're a seasoned pro or just starting out\, this event is perfect for golfers of all skill levels. Not only will you get the chance to play on one of the most beautiful courses in the region\, but you'll also have the opportunity to connect with other business professionals in the area. So what are you waiting for? Register today and secure your spot in this can't-miss event!
X-ALT-DESC;FMTTYPE=text/html:<br />\n<br />\n<br />\nDust off your clubs and get ready for the 2024 Fall Golf Classic with the Greater Chapin Chamber of Commerce! Join us at the prestigious Mid Carolina Club on October 22\, 2024\, for a day filled with fun\, networking\, and friendly competition. Whether you&#39\;re a seasoned pro or just starting out\, this event is perfect for golfers of all skill levels. Not only will you get the chance to play on one of the most beautiful courses in the region\, but you&#39\;ll also have the opportunity to connect with other business professionals in the area. So what are you waiting for? Register today and secure your spot in this can&#39\;t-miss event!
LOCATION:Timberlake Country Club
UID:e.1644.5913
SEQUENCE:3
DTSTAMP:20260425T022637Z
URL:http://dev.chapinchamber.com/events/details/2025-spring-golf-classic-presented-by-victoria-ares-allstate-agency-5913
END:VEVENT

END:VCALENDAR
