BEGIN:VCALENDAR
VERSION:2.0
PRODID:-//ChamberMaster//Event Calendar 2.0//EN
METHOD:PUBLISH
X-PUBLISHED-TTL:P3D
REFRESH-INTERVAL:P3D
CALSCALE:GREGORIAN
BEGIN:VEVENT
DTSTART:20250517T230000Z
DTEND:20250518T030000Z
X-MICROSOFT-CDO-ALLDAYEVENT:FALSE
SUMMARY:2025 Chapin Chamber Awards Gala & Dinner
DESCRIPTION:Mark Your Calendars!   \n\nThe Greater Chapin Chamber of Commerce 2025 Awards Gala and Dinner will be Saturday\, May 17th 2025 from 7-11 PM at The Venue at Murphy Hill!\n\nRegistrations & Sponsorships open March 3rd!\n\n \n\nSponsorship Opportunities:\n\n \n\nPlatinum Table Sponsor: $1500\n\nRecognition in program & during the event\n\nSpecial recognition on the Chamber's social media\n\nRecognition on the website\n\n8 Reserved Tickets\n\nFirst right of renewal to sponsor at this level next year\n\n \n\nGold Sponsorship: $1000\n\nRecognition in program\, during event\, and on screen\n\nRecognition on the Chamber's social media\n\nRecognition on the website\n\n4 Tickets\n\n \n\nSilver Sponsorship: $500\n\nRecognition in program and during event\n\nRecognition on the Chamber's social media\n\n2 Tickets\n\n \n\nIndividual Tickets: $100
X-ALT-DESC;FMTTYPE=text/html:<p><br />\n<span style="font-size:14px\;"><span style="font-family: Poppins\, sans-serif\; background-color: rgb(255\, 255\, 255)\;"><strong><span style="color:#000000\;">Mark Your Calendars!</span></strong><span style="color:#000000\;"> &#128467\;&#65039\;</span></span></span></p>\n\n<p><span style="color:#000000\;"><span style="font-size:14px\;"><span style="font-family: Poppins\, sans-serif\; background-color: rgb(255\, 255\, 255)\;">The Greater Chapin Chamber of Commerce 2025 Awards Gala and Dinner will be Saturday\, May 17th 2025 from 7-11 PM at The Venue at Murphy Hill!</span></span></span></p>\n\n<p><span style="color:#000000\;"><span style="font-size:14px\;"><strong><span style="font-family: Poppins\, sans-serif\; background-color: rgb(255\, 255\, 255)\;">Registrations &amp\; Sponsorships open March 3rd!</span></strong></span></span><br />\n&nbsp\;</p>\n\n<p style="margin: 0px\; padding: 0px\; color: rgb(0\, 0\, 0)\; font-family: Poppins\, sans-serif\; font-size: 14px\; white-space-collapse: preserve\;"><span style="color:#000000\;"><u><strong>Sponsorship Opportunities:</strong></u></span></p>\n\n<p style="margin: 0px\; padding: 0px\; color: rgb(0\, 0\, 0)\; font-family: Poppins\, sans-serif\; font-size: 14px\; white-space-collapse: preserve\;">&nbsp\;</p>\n\n<p style="margin: 0px\; padding: 0px\; color: rgb(0\, 0\, 0)\; font-family: Poppins\, sans-serif\; font-size: 14px\; white-space-collapse: preserve\;"><span style="color:#000000\;"><strong>Platinum Table Sponsor: $1500</strong></span></p>\n\n<p style="margin: 0px\; padding: 0px\; color: rgb(0\, 0\, 0)\; font-family: Poppins\, sans-serif\; font-size: 14px\; white-space-collapse: preserve\;"><span style="color:#000000\;"><em>Recognition in program &amp\; during the event</em></span></p>\n\n<p style="margin: 0px\; padding: 0px\; color: rgb(0\, 0\, 0)\; font-family: Poppins\, sans-serif\; font-size: 14px\; white-space-collapse: preserve\;"><span style="color:#000000\;"><em>Special recognition on the Chamber&#39\;s social media</em></span></p>\n\n<p style="margin: 0px\; padding: 0px\; color: rgb(0\, 0\, 0)\; font-family: Poppins\, sans-serif\; font-size: 14px\; white-space-collapse: preserve\;"><span style="color:#000000\;"><em>Recognition on the website</em></span></p>\n\n<p style="margin: 0px\; padding: 0px\; color: rgb(0\, 0\, 0)\; font-family: Poppins\, sans-serif\; font-size: 14px\; white-space-collapse: preserve\;"><span style="color:#000000\;"><em>8 Reserved Tickets</em></span></p>\n\n<p style="margin: 0px\; padding: 0px\; color: rgb(0\, 0\, 0)\; font-family: Poppins\, sans-serif\; font-size: 14px\; white-space-collapse: preserve\;"><span style="color:#000000\;"><em>First right of renewal to sponsor at this level next year</em></span></p>\n\n<p style="margin: 0px\; padding: 0px\; color: rgb(0\, 0\, 0)\; font-family: Poppins\, sans-serif\; font-size: 14px\; white-space-collapse: preserve\;">&nbsp\;</p>\n\n<p style="margin: 0px\; padding: 0px\; color: rgb(0\, 0\, 0)\; font-family: Poppins\, sans-serif\; font-size: 14px\; white-space-collapse: preserve\;"><span style="color:#000000\;"><strong>Gold Sponsorship: $1000</strong></span></p>\n\n<p style="margin: 0px\; padding: 0px\; color: rgb(0\, 0\, 0)\; font-family: Poppins\, sans-serif\; font-size: 14px\; white-space-collapse: preserve\;"><span style="color:#000000\;"><em>Recognition in program\, during event\, and on screen</em></span></p>\n\n<p style="margin: 0px\; padding: 0px\; color: rgb(0\, 0\, 0)\; font-family: Poppins\, sans-serif\; font-size: 14px\; white-space-collapse: preserve\;"><span style="color:#000000\;"><em>Recognition on the Chamber&#39\;s social media</em></span></p>\n\n<p style="margin: 0px\; padding: 0px\; color: rgb(0\, 0\, 0)\; font-family: Poppins\, sans-serif\; font-size: 14px\; white-space-collapse: preserve\;"><span style="color:#000000\;"><em>Recognition on the website</em></span></p>\n\n<p style="margin: 0px\; padding: 0px\; color: rgb(0\, 0\, 0)\; font-family: Poppins\, sans-serif\; font-size: 14px\; white-space-collapse: preserve\;"><span style="color:#000000\;"><em>4 Tickets</em></span></p>\n\n<p style="margin: 0px\; padding: 0px\; color: rgb(0\, 0\, 0)\; font-family: Poppins\, sans-serif\; font-size: 14px\; white-space-collapse: preserve\;">&nbsp\;</p>\n\n<p style="margin: 0px\; padding: 0px\; color: rgb(0\, 0\, 0)\; font-family: Poppins\, sans-serif\; font-size: 14px\; white-space-collapse: preserve\;"><span style="color:#000000\;"><strong>Silver Sponsorship: $500</strong></span></p>\n\n<p style="margin: 0px\; padding: 0px\; color: rgb(0\, 0\, 0)\; font-family: Poppins\, sans-serif\; font-size: 14px\; white-space-collapse: preserve\;"><span style="color:#000000\;"><em>Recognition in program and during event</em></span></p>\n\n<p style="margin: 0px\; padding: 0px\; color: rgb(0\, 0\, 0)\; font-family: Poppins\, sans-serif\; font-size: 14px\; white-space-collapse: preserve\;"><span style="color:#000000\;"><em>Recognition on the Chamber&#39\;s social media</em></span></p>\n\n<p style="margin: 0px\; padding: 0px\; color: rgb(0\, 0\, 0)\; font-family: Poppins\, sans-serif\; font-size: 14px\; white-space-collapse: preserve\;"><span style="color:#000000\;"><em>2 Tickets</em></span></p>\n\n<p style="margin: 0px\; padding: 0px\; color: rgb(0\, 0\, 0)\; font-family: Poppins\, sans-serif\; font-size: 14px\; white-space-collapse: preserve\;">&nbsp\;</p>\n\n<p style="margin: 0px\; padding: 0px\; color: rgb(0\, 0\, 0)\; font-family: Poppins\, sans-serif\; font-size: 14px\; white-space-collapse: preserve\;"><span style="color:#000000\;"><strong>Individual Tickets: $100</strong></span></p>\n
LOCATION:The Venue at Murphy Hill
UID:e.1644.6627
SEQUENCE:3
DTSTAMP:20260424T193353Z
URL:http://dev.chapinchamber.com/events/details/2025-chapin-chamber-awards-gala-dinner-6627
END:VEVENT

END:VCALENDAR
