BEGIN:VCALENDAR
VERSION:2.0
PRODID:-//ChamberMaster//Event Calendar 2.0//EN
METHOD:PUBLISH
X-PUBLISHED-TTL:P3D
REFRESH-INTERVAL:P3D
CALSCALE:GREGORIAN
BEGIN:VEVENT
DTSTART:20240501T130000Z
DTEND:20240501T180000Z
X-MICROSOFT-CDO-ALLDAYEVENT:FALSE
SUMMARY:2024 Spring Golf Classic presented by Atlantic Bay Mortgage Group
DESCRIPTION:The Greater Chapin Chamber's 2024 Spring Golf Classic presented by Atlantic Bay Mortgage will be held at Timberlake Country Club on May 1\, 2024.\n\nGreater Chapin Chamber partners and non-partners alike\, it is time to get your golf crew together for a day of golf\, networking and fun!  Our Beverage Cart Sponsors this year are The Tipsy Toad Tavern and Great Southern Homes! \n\nThe Golf Tournament helps us raise funds for the Chamber including our Annie Epting scholarships given to a senior student at each of our local High Schools each year.\n\n\n\n\n\n$500 PER TEAM\n\n$125/Individual\n\n\n\nMulligan Package: $100\; 2 mulligans per player + 1 Red Tee per player\n\nSingle Mulligans: $30 each.\n\n\n\nDriving Range and Putting Green will open at 0730\n\nCheck-in starts at 0800\n\nShotgun start at 0900
X-ALT-DESC;FMTTYPE=text/html:<p background-color:="" class="has-medium-font-size" color:="" font-feature-settings:="" font-kerning:="" font-optical-sizing:="" font-size:="" font-variation-settings:="" helvetica="" segoe="" style="box-sizing: inherit\; -webkit-font-smoothing: antialiased\; margin: 0px 0px 15px\; padding: 0px\; border: 0px\; font-variant-numeric: inherit\; font-variant-east-asian: inherit\; font-variant-alternates: inherit\; font-variant-position: inherit\; font-stretch: inherit\; line-height: inherit\; font-family: Roboto\, -apple-system\, BlinkMacSystemFont\, " vertical-align:=""><strong><span style="font-size:14px\;"><span style="color:#000080\;"><span style="font-family:times new roman\;">The Greater Chapin Chamber&rsquo\;s 2024&nbsp\;Spring Golf Classic presented by Atlantic Bay Mortgage will be held at Timberlake Country Club on May 1\, 2024.</span></span></span></strong></p>\n\n<p background-color:="" class="has-medium-font-size" color:="" font-feature-settings:="" font-kerning:="" font-optical-sizing:="" font-size:="" font-variation-settings:="" helvetica="" segoe="" style="box-sizing: inherit\; -webkit-font-smoothing: antialiased\; margin: 0px 0px 15px\; padding: 0px\; border: 0px\; font-variant-numeric: inherit\; font-variant-east-asian: inherit\; font-variant-alternates: inherit\; font-variant-position: inherit\; font-stretch: inherit\; line-height: inherit\; font-family: Roboto\, -apple-system\, BlinkMacSystemFont\, " vertical-align:=""><span style="font-size:14px\;"><span style="color:#000080\;"><span style="font-family:times new roman\;">Greater Chapin Chamber partners and non-partners alike\, it is time to get your golf crew together for a day of golf\, networking and fun!&nbsp\; Our Beverage Cart Sponsors this year are The Tipsy Toad Tavern and Great Southern Homes!&nbsp\;</span></span></span></p>\n\n<p background-color:="" class="has-medium-font-size" color:="" font-feature-settings:="" font-kerning:="" font-optical-sizing:="" font-size:="" font-variation-settings:="" helvetica="" segoe="" style="box-sizing: inherit\; -webkit-font-smoothing: antialiased\; margin: 0px 0px 15px\; padding: 0px\; border: 0px\; font-variant-numeric: inherit\; font-variant-east-asian: inherit\; font-variant-alternates: inherit\; font-variant-position: inherit\; font-stretch: inherit\; line-height: inherit\; font-family: Roboto\, -apple-system\, BlinkMacSystemFont\, " vertical-align:=""><span style="font-size:14px\;"><span style="color:#000080\;"><span style="font-family:times new roman\;">The Golf Tournament helps us raise funds for the Chamber including our Annie Epting scholarships given to a senior student at each of our local High Schools each year.</span></span><br />\n<br />\n<br />\n<span style="font-family:times new roman\;"><span background-color:="" font-size:="" new="" style="color: rgb(0\, 0\, 128)\; font-family: " times="">$500 PER TEAM</span><br background-color:="" font-size:="" new="" style="color: rgb(0\, 0\, 128)\; font-family: " times="" />\n<span background-color:="" font-size:="" new="" style="color: rgb(0\, 0\, 128)\; font-family: " times="">$125/Individual</span><br background-color:="" font-size:="" new="" style="color: rgb(0\, 0\, 128)\; font-family: " times="" />\n<br background-color:="" font-size:="" new="" style="color: rgb(0\, 0\, 128)\; font-family: " times="" />\n<strong background-color:="" font-size:="" new="" style="color: rgb(0\, 0\, 128)\; font-family: " times="">Mulligan Package</strong><span background-color:="" font-size:="" new="" style="color: rgb(0\, 0\, 128)\; font-family: " times="">: $100\; 2 mulligans per player + 1 Red Tee per player</span><br background-color:="" font-size:="" new="" style="color: rgb(0\, 0\, 128)\; font-family: " times="" />\n<strong background-color:="" font-size:="" new="" style="color: rgb(0\, 0\, 128)\; font-family: " times="">Single Mulligans</strong><span background-color:="" font-size:="" new="" style="color: rgb(0\, 0\, 128)\; font-family: " times="">: $30 each.</span><br />\n<br />\n<span style="color:#000080\;"><span style="background-color: rgb(255\, 255\, 255)\;">Driving Range and Putting Green will open at 0730</span><br background-color:="" font-size:="" style="color: rgb(0\, 0\, 128)\; font-family: sans-serif\, Arial\, Verdana\, " trebuchet="" />\n<span style="background-color: rgb(255\, 255\, 255)\;">Check-in starts at 0800</span><br background-color:="" font-size:="" style="color: rgb(0\, 0\, 128)\; font-family: sans-serif\, Arial\, Verdana\, " trebuchet="" />\n<span style="background-color: rgb(255\, 255\, 255)\;">Shotgun start at 0900</span></span></span></span></p>\n
LOCATION:Timberlake Country Club
UID:e.1644.5599
SEQUENCE:3
DTSTAMP:20260425T140718Z
URL:http://dev.chapinchamber.com/events/details/2024-spring-golf-classic-presented-by-atlantic-bay-mortgage-group-5599
END:VEVENT

END:VCALENDAR
