BEGIN:VCALENDAR
VERSION:2.0
PRODID:-//ChamberMaster//Event Calendar 2.0//EN
METHOD:PUBLISH
X-PUBLISHED-TTL:P3D
REFRESH-INTERVAL:P3D
CALSCALE:GREGORIAN
BEGIN:VEVENT
DTSTART:20240521T120000Z
DTEND:20240521T133000Z
X-MICROSOFT-CDO-ALLDAYEVENT:FALSE
SUMMARY:2024 Local Candidate Forum
DESCRIPTION:We invite you to participate in an engaging and informative event where you can hear directly from the candidates vying to represent our community. Join us at the 2024 Candidate Forum sponsored by the Greater Chapin Chamber of Commerce and moderated by William Lynch with Dunbar Funeral Home\, where local leaders will will gather together to discuss their vision\, plans and priorities for our community.
X-ALT-DESC;FMTTYPE=text/html:<span style="color: rgb(118\, 118\, 118)\; font-family: &quot\;Open Sans&quot\;\, sans-serif\; font-size: 15px\; background-color: rgb(255\, 255\, 255)\;">We invite you to participate in an engaging and informative event where you can hear directly from the candidates vying to represent our community. Join us at the 2024 Candidate Forum sponsored by the Greater Chapin Chamber of Commerce and moderated by William Lynch with Dunbar Funeral Home\, where local leaders will will gather together to discuss their vision\, plans and priorities for our community.</span>
LOCATION:Our Lady of the Lake Catholic Church
UID:e.1644.5606
SEQUENCE:3
DTSTAMP:20260425T140546Z
URL:http://dev.chapinchamber.com/events/details/2024-local-candidate-forum-5606
END:VEVENT

END:VCALENDAR
