BEGIN:VCALENDAR
VERSION:2.0
PRODID:-//ChamberMaster//Event Calendar 2.0//EN
METHOD:PUBLISH
X-PUBLISHED-TTL:P3D
REFRESH-INTERVAL:P3D
CALSCALE:GREGORIAN
BEGIN:VEVENT
DTSTART:20231117T230000Z
DTEND:20231118T030000Z
X-MICROSOFT-CDO-ALLDAYEVENT:FALSE
SUMMARY:2023 Annual Awards Dinner & Gala
DESCRIPTION:2023 Annual Awards Gala & Dinner
X-ALT-DESC;FMTTYPE=text/html:2023 Annual Awards Gala &amp\; Dinner
LOCATION:Ole Oak Barn
UID:e.1644.5318
SEQUENCE:3
DTSTAMP:20260426T005232Z
URL:http://dev.chapinchamber.com/events/details/2023-annual-awards-dinner-gala-5318
END:VEVENT

END:VCALENDAR
