BEGIN:VCALENDAR
VERSION:2.0
PRODID:-//ChamberMaster//Event Calendar 2.0//EN
METHOD:PUBLISH
X-PUBLISHED-TTL:P3D
REFRESH-INTERVAL:P3D
CALSCALE:GREGORIAN
BEGIN:VEVENT
DTSTART:20241101T233000Z
DTEND:20241103T013000Z
X-MICROSOFT-CDO-ALLDAYEVENT:FALSE
SUMMARY:10 Minute Plays
DESCRIPTION:Join us for a selection of original work from local playwrights and enjoy desserts and drinks with the show. This is the 4th Annual Event. You don't want to miss it!
X-ALT-DESC;FMTTYPE=text/html:Join us for a selection of original work from local playwrights and enjoy desserts and drinks with the show. This is the 4th Annual Event. You don&rsquo\;t want to miss it!
LOCATION:Chapin Theatre Company\, 830 Columbia Ave\, Chapin\, SC 29036
UID:e.1644.5748
SEQUENCE:3
DTSTAMP:20260425T035752Z
URL:http://dev.chapinchamber.com/events/details/10-minute-plays-5748
END:VEVENT

END:VCALENDAR
