BEGIN:VCALENDAR
VERSION:2.0
PRODID:-//ChamberMaster//Event Calendar 2.0//EN
METHOD:PUBLISH
X-PUBLISHED-TTL:P3D
REFRESH-INTERVAL:P3D
CALSCALE:GREGORIAN
BEGIN:VEVENT
DTSTART:20250822T233000Z
DTEND:20250825T013000Z
X-MICROSOFT-CDO-ALLDAYEVENT:FALSE
SUMMARY:10 Minute-ish Play Festival
DESCRIPTION:Join us for a selection of original works. Out of a field on over 40 short plays\, 8 have been selected and are being produced for the 5th Annual 10 minute-ish play Festival. The $25 ticket price includes a beverage and a dessert. This annual event has been very popular. Get your tickets before they sell out.
X-ALT-DESC;FMTTYPE=text/html:Join us for a selection of original works. Out of a field on over 40 short plays\, 8 have been selected and are being produced for the 5th Annual 10 minute-ish play Festival. The $25 ticket price includes a beverage and a dessert. This annual event has been very popular. Get your tickets before they sell out.
LOCATION:830 Columbia Ave\, Chapin\, SC 29036
UID:e.1644.6651
SEQUENCE:3
DTSTAMP:20260424T125639Z
URL:http://dev.chapinchamber.com/events/details/10-minute-ish-play-festival-6651
END:VEVENT

END:VCALENDAR
